BEGIN:VCALENDAR
VERSION:2.0
PRODID:-//ChamberMaster//Event Calendar 2.0//EN
METHOD:PUBLISH
X-PUBLISHED-TTL:P3D
REFRESH-INTERVAL:P3D
CALSCALE:GREGORIAN
BEGIN:VEVENT
DTSTART;VALUE=DATE:20241011
DTEND;VALUE=DATE:20241012
TRANSP:TRANSPARENT
X-MICROSOFT-CDO-ALLDAYEVENT:TRUE
SUMMARY:A-Team Anglers Tournament
DESCRIPTION:Come join us for the fourth Annual A-Team Anglers Fishing Tournament in Port O'Connor\, TX October 11th and 12th 2024. You will have the opportunity to fish for the day with a current or former Green Beret\, all while raising money to support the Green Beret Foundation.\n\n\n\nSee our link for all the rules and registration process!
X-ALT-DESC;FMTTYPE=text/html:<div class="xdj266r x11i5rnm xat24cr x1mh8g0r x1vvkbs x126k92a" style="margin: 0px\; overflow-wrap: break-word\; white-space-collapse: preserve\; font-family: &quot\;Segoe UI Historic&quot\;\, &quot\;Segoe UI&quot\;\, Helvetica\, Arial\, sans-serif\; color: rgb(5\, 5\, 5)\; font-size: 15px\; background-color: rgb(255\, 255\, 255)\;">\n<div dir="auto" style="font-family: inherit\;"><span style="font-family: Roboto\, -apple-system\, &quot\;Helvetica Neue&quot\;\, Helvetica\, Arial\, sans-serif\; font-size: 14px\;">Come join us for the fourth Annual A-Team Anglers Fishing Tournament in Port O&rsquo\;Connor\, TX October 11th and 12th 2024. You will have the opportunity to fish for the day with a current or former Green Beret\, all while raising money to support the Green Beret Foundation.</span><br />\n<br />\nSee our link for all the rules and registration process!</div>\n</div>\n
LOCATION:5 D Steakhouse
UID:e.3603.7341
SEQUENCE:3
DTSTAMP:20260421T075505Z
URL:https://business.portoconnorchamber.com/events/details/a-team-anglers-tournament-7341
END:VEVENT

END:VCALENDAR
