BEGIN:VCALENDAR
VERSION:2.0
PRODID:-//ChamberMaster//Event Calendar 2.0//EN
METHOD:PUBLISH
X-PUBLISHED-TTL:P3D
REFRESH-INTERVAL:P3D
CALSCALE:GREGORIAN
BEGIN:VEVENT
DTSTART:20260919T140000Z
DTEND:20260919T170000Z
X-MICROSOFT-CDO-ALLDAYEVENT:FALSE
SUMMARY:Adopt A Beach Program
DESCRIPTION:
X-ALT-DESC;FMTTYPE=text/html:
LOCATION:
UID:e.3603.8594
SEQUENCE:3
DTSTAMP:20260425T173532Z
URL:https://business.portoconnorchamber.com/events/details/adopt-a-beach-program-8594
END:VEVENT

END:VCALENDAR
