BEGIN:VCALENDAR
VERSION:2.0
PRODID:-//ChamberMaster//Event Calendar 2.0//EN
METHOD:PUBLISH
X-PUBLISHED-TTL:P3D
REFRESH-INTERVAL:P3D
CALSCALE:GREGORIAN
BEGIN:VEVENT
DTSTART:20251113T233000Z
DTEND:20251114T013000Z
X-MICROSOFT-CDO-ALLDAYEVENT:FALSE
SUMMARY:Angler's Night Out Speaker Series
DESCRIPTION:Kim Goulden\, Professional Guide and Columnist for Texas Fish & Game Magazine will be giving us some tips\, tricks\, & techniques for fall fishing with artificial lures. Don't assume you know all-she's got some secrets up her sleeve!\n\nHappy Hour: 5:30PM\n\nPresentation: 6PM-7PM\n\nRaffle Tickets $5 ea or 6 for $20
X-ALT-DESC;FMTTYPE=text/html:<span style="color: rgb(8\, 8\, 9)\; font-family: &quot\;Segoe UI Historic&quot\;\, &quot\;Segoe UI&quot\;\, Helvetica\, Arial\, sans-serif\; font-size: 15px\; background-color: rgb(255\, 255\, 255)\;">Kim Goulden\, Professional Guide and Columnist for Texas Fish &amp\; Game Magazine will be giving us some tips\, tricks\, &amp\; techniques for fall fishing with artificial lures. Don&rsquo\;t assume you know all-she&rsquo\;s got some secrets up her sleeve!</span><br class="html-br" style="color: rgb(8\, 8\, 9)\; font-family: &quot\;Segoe UI Historic&quot\;\, &quot\;Segoe UI&quot\;\, Helvetica\, Arial\, sans-serif\; font-size: 15px\; background-color: rgb(255\, 255\, 255)\;" />\n<span style="color: rgb(8\, 8\, 9)\; font-family: &quot\;Segoe UI Historic&quot\;\, &quot\;Segoe UI&quot\;\, Helvetica\, Arial\, sans-serif\; font-size: 15px\; background-color: rgb(255\, 255\, 255)\;">Happy Hour: 5:30PM</span><br class="html-br" style="color: rgb(8\, 8\, 9)\; font-family: &quot\;Segoe UI Historic&quot\;\, &quot\;Segoe UI&quot\;\, Helvetica\, Arial\, sans-serif\; font-size: 15px\; background-color: rgb(255\, 255\, 255)\;" />\n<span style="color: rgb(8\, 8\, 9)\; font-family: &quot\;Segoe UI Historic&quot\;\, &quot\;Segoe UI&quot\;\, Helvetica\, Arial\, sans-serif\; font-size: 15px\; background-color: rgb(255\, 255\, 255)\;">Presentation: 6PM-7PM</span><br class="html-br" style="color: rgb(8\, 8\, 9)\; font-family: &quot\;Segoe UI Historic&quot\;\, &quot\;Segoe UI&quot\;\, Helvetica\, Arial\, sans-serif\; font-size: 15px\; background-color: rgb(255\, 255\, 255)\;" />\n<span style="color: rgb(8\, 8\, 9)\; font-family: &quot\;Segoe UI Historic&quot\;\, &quot\;Segoe UI&quot\;\, Helvetica\, Arial\, sans-serif\; font-size: 15px\; background-color: rgb(255\, 255\, 255)\;">Raffle Tickets $5 ea or 6 for $20</span>
LOCATION:Hurricane Junction 1502 W Maple St. Port O'Connor\, TX 77982
UID:e.3603.7947
SEQUENCE:3
DTSTAMP:20260422T201323Z
URL:https://business.portoconnorchamber.com/events/details/angler-s-night-out-speaker-series-7947
END:VEVENT

END:VCALENDAR
