BEGIN:VCALENDAR
VERSION:2.0
PRODID:-//ChamberMaster//Event Calendar 2.0//EN
METHOD:PUBLISH
X-PUBLISHED-TTL:P3D
REFRESH-INTERVAL:P3D
CALSCALE:GREGORIAN
BEGIN:VEVENT
DTSTART:20260115T233000Z
DTEND:20260116T013000Z
X-MICROSOFT-CDO-ALLDAYEVENT:FALSE
SUMMARY:Angler's Night Out Speaker Series
DESCRIPTION:Blake Whitney\, owner of Three Sisters Oyster Co. in Port Lavaca will be talking about his sustainable Gulf Coast oyster farm operation. Blake has a degree in Range & Wildlife Management from Texas A&M Kingsville and 8 years in Environmental Science.\n\nHappy Hour: 5:30PM\n\nPresentation: 6PM-7PM\n\n~Raffle Tickets $5 ea or 6 for $20~
X-ALT-DESC;FMTTYPE=text/html:<span style="color: rgb(8\, 8\, 9)\; font-family: &quot\;Segoe UI Historic&quot\;\, &quot\;Segoe UI&quot\;\, Helvetica\, Arial\, sans-serif\; font-size: 15px\; background-color: rgb(255\, 255\, 255)\;">Blake Whitney\, owner of Three Sisters Oyster Co. in Port Lavaca will be talking about his sustainable Gulf Coast oyster farm operation. Blake has a degree in Range &amp\; Wildlife Management from Texas A&amp\;M Kingsville and 8 years in Environmental Science.</span><br class="html-br" style="color: rgb(8\, 8\, 9)\; font-family: &quot\;Segoe UI Historic&quot\;\, &quot\;Segoe UI&quot\;\, Helvetica\, Arial\, sans-serif\; font-size: 15px\; background-color: rgb(255\, 255\, 255)\;" />\n<span style="color: rgb(8\, 8\, 9)\; font-family: &quot\;Segoe UI Historic&quot\;\, &quot\;Segoe UI&quot\;\, Helvetica\, Arial\, sans-serif\; font-size: 15px\; background-color: rgb(255\, 255\, 255)\;">Happy Hour: 5:30PM</span><br class="html-br" style="color: rgb(8\, 8\, 9)\; font-family: &quot\;Segoe UI Historic&quot\;\, &quot\;Segoe UI&quot\;\, Helvetica\, Arial\, sans-serif\; font-size: 15px\; background-color: rgb(255\, 255\, 255)\;" />\n<span style="color: rgb(8\, 8\, 9)\; font-family: &quot\;Segoe UI Historic&quot\;\, &quot\;Segoe UI&quot\;\, Helvetica\, Arial\, sans-serif\; font-size: 15px\; background-color: rgb(255\, 255\, 255)\;">Presentation: 6PM-7PM</span><br class="html-br" style="color: rgb(8\, 8\, 9)\; font-family: &quot\;Segoe UI Historic&quot\;\, &quot\;Segoe UI&quot\;\, Helvetica\, Arial\, sans-serif\; font-size: 15px\; background-color: rgb(255\, 255\, 255)\;" />\n<span style="color: rgb(8\, 8\, 9)\; font-family: &quot\;Segoe UI Historic&quot\;\, &quot\;Segoe UI&quot\;\, Helvetica\, Arial\, sans-serif\; font-size: 15px\; background-color: rgb(255\, 255\, 255)\;">~Raffle Tickets $5 ea or 6 for $20~</span>
LOCATION:Hurricane Junction 1502 W Maple St. Port O'Connor\, TX 77982
UID:e.3603.8584
SEQUENCE:3
DTSTAMP:20260422T162336Z
URL:https://business.portoconnorchamber.com/events/details/angler-s-night-out-speaker-series-8584
END:VEVENT

END:VCALENDAR
