BEGIN:VCALENDAR
VERSION:2.0
PRODID:-//ChamberMaster//Event Calendar 2.0//EN
METHOD:PUBLISH
X-PUBLISHED-TTL:P3D
REFRESH-INTERVAL:P3D
CALSCALE:GREGORIAN
BEGIN:VEVENT
DTSTART:20260304T003000Z
DTEND:20260304T030000Z
X-MICROSOFT-CDO-ALLDAYEVENT:FALSE
SUMMARY:Bunco
DESCRIPTION:Everyone Welcome. $5 to play.
X-ALT-DESC;FMTTYPE=text/html:Everyone Welcome. $5 to play.
LOCATION:POC Community Center
UID:e.3603.2740
SEQUENCE:3
DTSTAMP:20260426T004817Z
URL:https://business.portoconnorchamber.com/events/details/bunco-03-03-2026-2740
END:VEVENT

END:VCALENDAR
