BEGIN:VCALENDAR
VERSION:2.0
PRODID:-//ChamberMaster//Event Calendar 2.0//EN
METHOD:PUBLISH
X-PUBLISHED-TTL:P3D
REFRESH-INTERVAL:P3D
CALSCALE:GREGORIAN
BEGIN:VEVENT
DTSTART:20270803T233000Z
DTEND:20270804T020000Z
X-MICROSOFT-CDO-ALLDAYEVENT:FALSE
SUMMARY:Bunco
DESCRIPTION:Everyone Welcome. $5 to play.
X-ALT-DESC;FMTTYPE=text/html:Everyone Welcome. $5 to play.
LOCATION:POC Community Center
UID:e.3603.2757
SEQUENCE:3
DTSTAMP:20260423T092444Z
URL:https://business.portoconnorchamber.com/events/details/bunco-08-03-2027-2757
END:VEVENT

END:VCALENDAR
