BEGIN:VCALENDAR
VERSION:2.0
PRODID:-//ChamberMaster//Event Calendar 2.0//EN
METHOD:PUBLISH
X-PUBLISHED-TTL:P3D
REFRESH-INTERVAL:P3D
CALSCALE:GREGORIAN
BEGIN:VEVENT
DTSTART:20261202T003000Z
DTEND:20261202T030000Z
X-MICROSOFT-CDO-ALLDAYEVENT:FALSE
SUMMARY:Bunco
DESCRIPTION:Everyone Welcome. $5 to play.
X-ALT-DESC;FMTTYPE=text/html:Everyone Welcome. $5 to play.
LOCATION:POC Community Center
UID:e.3603.2749
SEQUENCE:3
DTSTAMP:20260425T133438Z
URL:https://business.portoconnorchamber.com/events/details/bunco-12-01-2026-2749
END:VEVENT

END:VCALENDAR
