BEGIN:VCALENDAR
VERSION:2.0
PRODID:-//ChamberMaster//Event Calendar 2.0//EN
METHOD:PUBLISH
X-PUBLISHED-TTL:P3D
REFRESH-INTERVAL:P3D
CALSCALE:GREGORIAN
BEGIN:VEVENT
DTSTART;VALUE=DATE:20260710
DTEND;VALUE=DATE:20260712
TRANSP:TRANSPARENT
X-MICROSOFT-CDO-ALLDAYEVENT:TRUE
SUMMARY:Capt Trey Ross Memorial Fishing Tournament
DESCRIPTION:Sponsorship opportunities are now open for the 4th Annual Capt. Trey Ross Memorial Fishing Tournament.\n\nPlease contact for a packet. \n\nMarch 1\, Team Entry Opens\n\nJuly 10\, Captains Meeting\n\nJuly 11\, Tournament Day
X-ALT-DESC;FMTTYPE=text/html:Sponsorship opportunities are now open for the 4th Annual Capt. Trey Ross Memorial Fishing Tournament.<br />\nPlease contact for a packet.&nbsp\;<br />\nMarch 1\, Team Entry Opens<br />\nJuly 10\, Captains Meeting<br />\nJuly 11\, Tournament Day
LOCATION:
UID:e.3603.8582
SEQUENCE:3
DTSTAMP:20260422T162457Z
URL:https://business.portoconnorchamber.com/events/details/capt-trey-ross-memorial-fishing-tournament-8582
END:VEVENT

END:VCALENDAR
