BEGIN:VCALENDAR
VERSION:2.0
PRODID:-//ChamberMaster//Event Calendar 2.0//EN
METHOD:PUBLISH
X-PUBLISHED-TTL:P3D
REFRESH-INTERVAL:P3D
CALSCALE:GREGORIAN
BEGIN:VEVENT
DTSTART:20260130T220000Z
DTEND:20260131T220000Z
X-MICROSOFT-CDO-ALLDAYEVENT:FALSE
SUMMARY:Castaway Classic Redfish Tournament
DESCRIPTION:Friday\, January 30th\, 2026\n\nCaptain's Meeting & Dinner\n\n4-6pm- Open Registration at Castaway Lodge\n\n6pm - Captains Meeting/Dinner\n\nSaturday\, January 31st\, 2026\n\nFirst Cast - TBA\n\n2-4pm- Weigh-In at Castaway Lodge/Bayou Facility
X-ALT-DESC;FMTTYPE=text/html:<div>\n<div background-color:="" class="xdj266r x11i5rnm xat24cr x1mh8g0r x1vvkbs" color:="" font-size:="" segoe="" style="margin: 0px\; overflow-wrap: break-word\; font-family: " ui="">\n<div class="xdj266r x11i5rnm xat24cr x1mh8g0r x1vvkbs" style="margin: 0px\; overflow-wrap: break-word\; font-family: &quot\;Segoe UI Historic&quot\;\, &quot\;Segoe UI&quot\;\, Helvetica\, Arial\, sans-serif\; color: rgb(8\, 8\, 9)\; font-size: 15px\; background-color: rgb(255\, 255\, 255)\;">\n<div class="xdj266r x14z9mp xat24cr x1lziwak x1vvkbs" style="margin-inline: 0px\; overflow-wrap: break-word\; margin-bottom: 0px\; margin-top: 0px\; font-family: &quot\;Segoe UI Historic&quot\;\, &quot\;Segoe UI&quot\;\, Helvetica\, Arial\, sans-serif\; color: rgb(8\, 8\, 9)\; font-size: 15px\; background-color: rgb(255\, 255\, 255)\;">Friday\, January 30th\, 2026<br class="html-br" />\nCaptain&rsquo\;s Meeting &amp\; Dinner<br class="html-br" />\n4-6pm- Open Registration at Castaway Lodge<br class="html-br" />\n6pm - Captains Meeting/Dinner</div>\n\n<div class="x14z9mp xat24cr x1lziwak x1vvkbs xtlvy1s" style="margin-inline: 0px\; overflow-wrap: break-word\; margin-bottom: 0px\; margin-top: 0.5em\; font-family: &quot\;Segoe UI Historic&quot\;\, &quot\;Segoe UI&quot\;\, Helvetica\, Arial\, sans-serif\; color: rgb(8\, 8\, 9)\; font-size: 15px\; background-color: rgb(255\, 255\, 255)\;">Saturday\, January 31st\, 2026<br class="html-br" />\nFirst Cast - TBA<br class="html-br" />\n2-4pm- Weigh-In at Castaway Lodge/Bayou Facility</div>\n</div>\n</div>\n</div>\n
LOCATION:Castaway Lodge 109 W Austin Ave. Seadrift\, TX
UID:e.3603.8583
SEQUENCE:3
DTSTAMP:20260422T162337Z
URL:https://business.portoconnorchamber.com/events/details/castaway-classic-redfish-tournament-8583
END:VEVENT

END:VCALENDAR
