BEGIN:VCALENDAR
VERSION:2.0
PRODID:-//ChamberMaster//Event Calendar 2.0//EN
METHOD:PUBLISH
X-PUBLISHED-TTL:P3D
REFRESH-INTERVAL:P3D
CALSCALE:GREGORIAN
BEGIN:VEVENT
DTSTART:20261212T000000Z
DTEND:20261212T030000Z
X-MICROSOFT-CDO-ALLDAYEVENT:FALSE
SUMMARY:Chamber Christmas Party
DESCRIPTION:
X-ALT-DESC;FMTTYPE=text/html:
LOCATION:Port O'Connor Community Center
UID:e.3603.318
SEQUENCE:3
DTSTAMP:20260425T134221Z
URL:https://business.portoconnorchamber.com/events/details/chamber-christmas-party-12-11-2026-318
END:VEVENT

END:VCALENDAR
