BEGIN:VCALENDAR
VERSION:2.0
PRODID:-//ChamberMaster//Event Calendar 2.0//EN
METHOD:PUBLISH
X-PUBLISHED-TTL:P3D
REFRESH-INTERVAL:P3D
CALSCALE:GREGORIAN
BEGIN:VEVENT
DTSTART;VALUE=DATE:20260710
DTEND;VALUE=DATE:20260712
TRANSP:TRANSPARENT
X-MICROSOFT-CDO-ALLDAYEVENT:TRUE
SUMMARY:Cula Roja Fishing Tournament
DESCRIPTION:It's on\, The 53rd World Famous Cula Roja Fishing Tournament is July 10th and 11th\, 2026. 2026 Rules: https://www.cularoja.com/.../6bfb0f...\n\n \n\n\n\n\n\n2026 Registration Form: https://www.cularoja.com/2026-entry-form
X-ALT-DESC;FMTTYPE=text/html:<div background-color:="" class="xdj266r x11i5rnm xat24cr x1mh8g0r x1vvkbs x126k92a" color:="" font-size:="" segoe="" style="margin: 0px\; white-space-collapse: preserve\; overflow-wrap: break-word\; font-family: " ui="">\n<div dir="auto" style="font-family: inherit\;">\n<div class="xdj266r x11i5rnm xat24cr x1mh8g0r x1vvkbs x126k92a" style="margin: 0px\; overflow-wrap: break-word\; white-space-collapse: preserve\; font-family: &quot\;Segoe UI Historic&quot\;\, &quot\;Segoe UI&quot\;\, Helvetica\, Arial\, sans-serif\; color: rgb(8\, 8\, 9)\; font-size: 15px\; background-color: rgb(255\, 255\, 255)\;">\n<div dir="auto" style="font-family: inherit\;">\n<div class="xdj266r x14z9mp xat24cr x1lziwak x1vvkbs x126k92a" style="white-space: pre-wrap\; margin-inline: 0px\; overflow-wrap: break-word\; margin-bottom: 0px\; margin-top: 0px\; font-family: &quot\;Segoe UI Historic&quot\;\, &quot\;Segoe UI&quot\;\, Helvetica\, Arial\, sans-serif\; color: rgb(8\, 8\, 9)\; font-size: 15px\; background-color: rgb(255\, 255\, 255)\;">\n<div dir="auto" style="font-family: inherit\;">It&#39\;s on\, The 53rd World Famous Cula Roja Fishing Tournament is July 10th and 11th\, 2026. 2026 Rules: <span class="html-span xdj266r x14z9mp xat24cr x1lziwak xexx8yu xyri2b x18d9i69 x1c1uobl x1hl2dhg x16tdsg8 x1vvkbs" style="margin-inline: 0px\; text-align: inherit\; padding-inline: 0px\; overflow-wrap: break-word\; padding-bottom: 0px\; margin-bottom: 0px\; margin-top: 0px\; padding-top: 0px\; font-family: inherit\;"><a attributionsrc="/privacy_sandbox/comet/register/source/?xt=AZYwmRE3SDx_nMwiwvkGG2SYq7yfAUw_njoK-jyW93bIaPGz8NBV42ALTMWn-LDaa2dNPBH-vj7ztKwowg81OLd_jdM99hpckM6Th4j0TrH3qTbPEENA8D7O_ZVfTJQk8yXqgrFi93lKdutuA_4UdgpFAdgaju6KOJznh3izv1-1SU0Sg5AhIpE5RsekiQp-086uilYqklVvZo2egRkbYQ0dKFM-nB09vun8W81D0d_caanHgY2-Rc3aptcFksbi9xJsCfexd6EMVjb-L00yCReDqpQXRli5Z8UpCYkpyk7VNn7avelXeUA6oQAfQVwRuR6LmW2jGlTYTphQu4mjdUusnaBWu3a1ubUtYdiq9gUov5aDn0cGjN_HnXdovgo6XcSM6tgDA4-QGqwxG6W9tRRsQTI4qLaiV8vblqDmiMu1GSfywEIwXHXpKTHjmKzsIVILa8cTPZ-ih3FofzhvE2fXCQXqwKm95Ql409lrNZU7EegE0Otshb4M1fzDGTvF_gukHdfrP1Qa0ltAd-r0qtnm-uY-kcBsWg_qYYwtw1jl82pEFIvOopJLVPQWlvQHARD-xPEEWCGP4cIUEBNIEc7P4AONWBV5VfEvssmobc9CBY4dC2gfpVu8SO1XqXQPvRFElkKsVVJKUT0jNTFzAxr-cotWUn_rUHSpJok5IaJgffzIw4nmkzyRpdjx062CUOsqkcxom7ylQXIpseMBiWiPyXpVNpLDVBUdF_sK9clV3GCoclLV95s4bhS56a-2EGvv6H31C5Ry2dY4gyyFnAjp6XHSiy4Hkvv2ubZhmSgPYOB-80StBdJDUyPthI4oCznTp1J8zawGBCkI0czlNTlUkexKSEZGCW5dA7UNCMgA799xVrbr5VDqqRAtWmQfk5cs-HRa0mq5TYuD-VqL_K5fQb5ZUjf-gv3a5FEhHBg3xx_baBH3oka8qpU9g9hZwfSI60tuHReuk2WRKpEe8RXBdxo32LIv-840rZFUz3Zx8cTPQntU01vQQP7p4H81Ds7jDzaS7OXpULbd_5N-KB9N7qbT1NmxylYH3Ev64EG47Nf_KmwtL8HM96PXyHWJjoAcg5LQgaOXdOrBEXIeXs7LIqKMjYBhlMZbkXhr6ydMivhT3Fx0fLBnM-Gv2ojpCixXQXFuyUZdOahG85KNe4uHkbfV9293gVlD4mAnFRgKUwRdHT8RxIA-tqkmjmoJgaSVnHNUi3kVnaNnDU6CngGII94TvaHBxzKAbMR6uOzMdF-zJsSuyBPZ64vlTy4KGtl23kMRR0Z2bDkyC7QrGDXejNxnGRFxIa8AsrtPub67RpOzlHR5PPqgy24TmWj11zgK1PErPRH_i7-emwYCtmUs6wrMQl3RZfPnej8EWtrXU2XewoFm8xUUAW8bFK5XvGU" class="x1i10hfl xjbqb8w x1ejq31n x18oe1m7 x1sy0etr xstzfhl x972fbf x10w94by x1qhh985 x14e42zd x9f619 x1ypdohk xt0psk2 x3ct3a4 xdj266r x14z9mp xat24cr x1lziwak xexx8yu xyri2b x18d9i69 x1c1uobl x16tdsg8 x1hl2dhg xggy1nq x1a2a7pz xkrqix3 x1sur9pj x1fey0fg x1s688f" href="https://l.facebook.com/l.php?u=https%3A%2F%2Fwww.cularoja.com%2F_files%2Fugd%2F6bfb0f_1047443ed78e4048b74c171a915649da.pdf%3Ffbclid%3DIwZXh0bgNhZW0CMTAAYnJpZBExUkdVZDFVMDFRbk95b3NBMXNydGMGYXBwX2lkEDIyMjAzOTE3ODgyMDA4OTIAAR7SOaGF4apkNA4B4f0ndUUVaq29Ewd1Gxr2CpOT7snxrP9sBzALHh79WhJP0Q_aem_xiNqEgCt6tZXro2C_26zmg&amp\;h=AT5TDwbBsj66CXuYUFcO4-DxG-EPDzJCNwDaOqKjxG46HC2-B2O8_Whw0mLBvac-ZJ-hFozyZgkl68BHgDTXAojbFBqJx-Egopp0OLmfDduNTsSUdK0f3ymIlFYjvrqHBU0Xnj698ZF6TRL_&amp\;__tn__=-UK-R&amp\;c[0]=AT6snGYSQqRmViL4jsJfnk8AeuGXLyF5qdXUL4pdKPQPkDZbgEKljyAED4QAkdLq06kRg-wZJvXjIHXmBmpiD8sAtw-1LioWy47gCchqBVrlh7ThWa5SLbpMiUE_FtBsU90hTtLC58640HX3Qg_C2xIwKX_0H4uGd_wpI1c5l8tpvWWcA36nHE5bTAkREoE0jS_UZa_s7jqWxAW7w58owKKs8A" original_target="https://www.cularoja.com/_files/ugd/6bfb0f_1047443ed78e4048b74c171a915649da.pdf?fbclid=iwzxh0bgnhzw0cmtaaynjpzbexukdvzdfvmdfrbk95b3nbmxnydgmgyxbwx2lkediymjazote3odgymda4otiaar7soagf4apkna4b4f0nduuvaq29ewd1gxr2cpot7snxrp9sbzalhh79whjp0q_aem_xinqegct6tzxro2c_26zmg" rel="nofollow noreferrer" role="link" style="color: rgb(0\, 100\, 209)\; cursor: pointer\; text-decoration: none\; outline: none\; border-inline-width: 0px\; margin-inline: 0px\; text-align: inherit\; border-inline-style: none\; padding-inline: 0px\; -webkit-tap-highlight-color: transparent\; font-weight: 600\; list-style-type: none\; box-sizing: border-box\; touch-action: manipulation\; background-color: transparent\; display: inline-block\; padding-bottom: 0px\; border-top-style: none\; border-bottom-width: 0px\; border-bottom-style: none\; border-top-width: 0px\; margin-bottom: 0px\; margin-top: 0px\; padding-top: 0px\; font-family: inherit\;" tabindex="0" target="_blank" wa-annotate="true" waprocessedanchor="true" waprocessedid="h0wlgu">https://www.cularoja.com/.../6bfb0f...</a></span>\n<div mcafee_wa_ann="{&quot\;category&quot\;:[&quot\;sp&quot\;]\,&quot\;flags&quot\;:0\,&quot\;key&quot\;:&quot\;cularoja.com&quot\;\,&quot\;trust&quot\;:70\,&quot\;ttl&quot\;:604800\,&quot\;scanner&quot\;:&quot\;cache&quot\;\,&quot\;originalUrl&quot\;:&quot\;https://www.cularoja.com/_files/ugd/6bfb0f_1047443ed78e4048b74c171a915649da.pdf?fbclid=iwzxh0bgnhzw0cmtaaynjpzbexukdvzdfvmdfrbk95b3nbmxnydgmgyxbwx2lkediymjazote3odgymda4otiaar7ze-vngdwrkqyanqqib2kce3atz_nr0z7yk-0wi4oeuuhlfz4mplb1wozhmw_aem_yb_mt8w9fqmavaqwaul0fw&quot\;\,&quot\;timeCached&quot\;:1776819418687\,&quot\;url&quot\;:&quot\;cularoja.com/_files/ugd/6bfb0f_1047443ed78e4048b74c171a915649da.pdf&quot\;\,&quot\;originalScanner&quot\;:&quot\;hti-url&quot\;\,&quot\;dossierUrl&quot\;:&quot\;https://www.cularoja.com/_files/ugd/6bfb0f_1047443ed78e4048b74c171a915649da.pdf?fbclid=iwzxh0bgnhzw0cmtaaynjpzbexukdvzdfvmdfrbk95b3nbmxnydgmgyxbwx2lkediymjazote3odgymda4otiaar7soagf4apkna4b4f0nduuvaq29ewd1gxr2cpot7snxrp9sbzalhh79whjp0q_aem_xinqegct6tzxro2c_26zmg&quot\;}" style="font-family: inherit\; cursor: default !important\; display: inline-block !important\; float: none !important\; padding: 0px 0px 0px 4px !important\; position: relative !important\; top: 2px !important\; z-index: 100 !important\;" waprocessedid="h0wlgu">\n<div class="mcafee_green" id="0DE9E47C-871A-4F90-8440-B190C216800A_3" style="background-image: url(&quot\;chrome-extension://fheoggkfdfchfphceeifdbepaooicaho/images/annotation/green_icon.svg?secret=t7zpvj&quot\;) !important\; background-position: center center !important\; background-repeat: no-repeat !important\; background-size: contain !important\; height: 16px !important\; width: 16px !important\; font-family: inherit\; display: inline-block !important\; cursor: pointer\; outline: none\;" tabindex="0">&nbsp\;</div>\n</div>\n</div>\n</div>\n\n<div class="x14z9mp xat24cr x1lziwak x1vvkbs xtlvy1s x126k92a" style="white-space: pre-wrap\; margin-inline: 0px\; overflow-wrap: break-word\; margin-bottom: 0px\; margin-top: 0.5em\; font-family: &quot\;Segoe UI Historic&quot\;\, &quot\;Segoe UI&quot\;\, Helvetica\, Arial\, sans-serif\; color: rgb(8\, 8\, 9)\; font-size: 15px\; background-color: rgb(255\, 255\, 255)\;">\n<div dir="auto" style="font-family: inherit\;">2026 Registration Form: <span class="html-span xdj266r x14z9mp xat24cr x1lziwak xexx8yu xyri2b x18d9i69 x1c1uobl x1hl2dhg x16tdsg8 x1vvkbs" style="margin-inline: 0px\; text-align: inherit\; padding-inline: 0px\; overflow-wrap: break-word\; padding-bottom: 0px\; margin-bottom: 0px\; margin-top: 0px\; padding-top: 0px\; font-family: inherit\;"><a attributionsrc="/privacy_sandbox/comet/register/source/?xt=AZYwmRE3SDx_nMwiwvkGG2SYq7yfAUw_njoK-jyW93bIaPGz8NBV42ALTMWn-LDaa2dNPBH-vj7ztKwowg81OLd_jdM99hpckM6Th4j0TrH3qTbPEENA8D7O_ZVfTJQk8yXqgrFi93lKdutuA_4UdgpFAdgaju6KOJznh3izv1-1SU0Sg5AhIpE5RsekiQp-086uilYqklVvZo2egRkbYQ0dKFM-nB09vun8W81D0d_caanHgY2-Rc3aptcFksbi9xJsCfexd6EMVjb-L00yCReDqpQXRli5Z8UpCYkpyk7VNn7avelXeUA6oQAfQVwRuR6LmW2jGlTYTphQu4mjdUusnaBWu3a1ubUtYdiq9gUov5aDn0cGjN_HnXdovgo6XcSM6tgDA4-QGqwxG6W9tRRsQTI4qLaiV8vblqDmiMu1GSfywEIwXHXpKTHjmKzsIVILa8cTPZ-ih3FofzhvE2fXCQXqwKm95Ql409lrNZU7EegE0Otshb4M1fzDGTvF_gukHdfrP1Qa0ltAd-r0qtnm-uY-kcBsWg_qYYwtw1jl82pEFIvOopJLVPQWlvQHARD-xPEEWCGP4cIUEBNIEc7P4AONWBV5VfEvssmobc9CBY4dC2gfpVu8SO1XqXQPvRFElkKsVVJKUT0jNTFzAxr-cotWUn_rUHSpJok5IaJgffzIw4nmkzyRpdjx062CUOsqkcxom7ylQXIpseMBiWiPyXpVNpLDVBUdF_sK9clV3GCoclLV95s4bhS56a-2EGvv6H31C5Ry2dY4gyyFnAjp6XHSiy4Hkvv2ubZhmSgPYOB-80StBdJDUyPthI4oCznTp1J8zawGBCkI0czlNTlUkexKSEZGCW5dA7UNCMgA799xVrbr5VDqqRAtWmQfk5cs-HRa0mq5TYuD-VqL_K5fQb5ZUjf-gv3a5FEhHBg3xx_baBH3oka8qpU9g9hZwfSI60tuHReuk2WRKpEe8RXBdxo32LIv-840rZFUz3Zx8cTPQntU01vQQP7p4H81Ds7jDzaS7OXpULbd_5N-KB9N7qbT1NmxylYH3Ev64EG47Nf_KmwtL8HM96PXyHWJjoAcg5LQgaOXdOrBEXIeXs7LIqKMjYBhlMZbkXhr6ydMivhT3Fx0fLBnM-Gv2ojpCixXQXFuyUZdOahG85KNe4uHkbfV9293gVlD4mAnFRgKUwRdHT8RxIA-tqkmjmoJgaSVnHNUi3kVnaNnDU6CngGII94TvaHBxzKAbMR6uOzMdF-zJsSuyBPZ64vlTy4KGtl23kMRR0Z2bDkyC7QrGDXejNxnGRFxIa8AsrtPub67RpOzlHR5PPqgy24TmWj11zgK1PErPRH_i7-emwYCtmUs6wrMQl3RZfPnej8EWtrXU2XewoFm8xUUAW8bFK5XvGU" class="x1i10hfl xjbqb8w x1ejq31n x18oe1m7 x1sy0etr xstzfhl x972fbf x10w94by x1qhh985 x14e42zd x9f619 x1ypdohk xt0psk2 x3ct3a4 xdj266r x14z9mp xat24cr x1lziwak xexx8yu xyri2b x18d9i69 x1c1uobl x16tdsg8 x1hl2dhg xggy1nq x1a2a7pz xkrqix3 x1sur9pj x1fey0fg x1s688f" href="https://www.cularoja.com/2026-entry-form?fbclid=IwZXh0bgNhZW0CMTAAYnJpZBExUkdVZDFVMDFRbk95b3NBMXNydGMGYXBwX2lkEDIyMjAzOTE3ODgyMDA4OTIAAR7ze-vngDwrkQyanqqIb2kce3atz_nR0Z7yK-0WI4OEUuhLfZ4MPlB1WoZhMw_aem_yb_mt8W9FqMaVAqWaul0fw" original_target="https://www.cularoja.com/2026-entry-form?fbclid=iwzxh0bgnhzw0cmtaaynjpzbexukdvzdfvmdfrbk95b3nbmxnydgmgyxbwx2lkediymjazote3odgymda4otiaar7ze-vngdwrkqyanqqib2kce3atz_nr0z7yk-0wi4oeuuhlfz4mplb1wozhmw_aem_yb_mt8w9fqmavaqwaul0fw" rel="nofollow noreferrer" role="link" style="color: rgb(0\, 100\, 209)\; cursor: pointer\; text-decoration: none\; outline: none\; border-inline-width: 0px\; margin-inline: 0px\; text-align: inherit\; border-inline-style: none\; padding-inline: 0px\; -webkit-tap-highlight-color: transparent\; font-weight: 600\; list-style-type: none\; box-sizing: border-box\; touch-action: manipulation\; background-color: transparent\; display: inline-block\; padding-bottom: 0px\; border-top-style: none\; border-bottom-width: 0px\; border-bottom-style: none\; border-top-width: 0px\; margin-bottom: 0px\; margin-top: 0px\; padding-top: 0px\; font-family: inherit\;" tabindex="0" target="_blank" wa-annotate="true" waprocessedanchor="true" waprocessedid="0bo59">https://www.cularoja.com/2026-entry-form</a></span></div>\n</div>\n</div>\n</div>\n</div>\n</div>\n
LOCATION:
UID:e.3603.8617
SEQUENCE:3
DTSTAMP:20260422T161742Z
URL:https://business.portoconnorchamber.com/events/details/cula-roja-fishing-tournament-8617
END:VEVENT

END:VCALENDAR
