BEGIN:VCALENDAR
VERSION:2.0
PRODID:-//ChamberMaster//Event Calendar 2.0//EN
METHOD:PUBLISH
X-PUBLISHED-TTL:P3D
REFRESH-INTERVAL:P3D
CALSCALE:GREGORIAN
BEGIN:VEVENT
DTSTART:20260611T230000Z
DTEND:20260612T020000Z
X-MICROSOFT-CDO-ALLDAYEVENT:FALSE
SUMMARY:Designer Purse Bingo
DESCRIPTION:Save The Date\n\nDesigner Purse Bingo\n\nAll proceeds benefit The Harbor Children's Alliance & Victim Center\n\nFind us on Facebook for pics of the purses. \n\nDoors open at 6 pm and games start at 7 pm\n\nEveryone must have a ticket to enter\n\nSPONSOR AND TICKET INFO COMING SOON!
X-ALT-DESC;FMTTYPE=text/html:Save The Date<br />\nDesigner Purse Bingo<br />\nAll proceeds benefit The Harbor Children&#39\;s Alliance &amp\; Victim Center<br />\nFind us on Facebook for pics of the purses.&nbsp\;<br />\nDoors open at 6 pm and games start at 7 pm<br />\nEveryone must have a ticket to enter<br />\nSPONSOR AND TICKET INFO COMING SOON!
LOCATION:Bauer Community Center 2300 TX-35 Port Lavaca\, TX 77979
UID:e.3603.8614
SEQUENCE:3
DTSTAMP:20260422T105950Z
URL:https://business.portoconnorchamber.com/events/details/designer-purse-bingo-8614
END:VEVENT

END:VCALENDAR
