BEGIN:VCALENDAR
VERSION:2.0
PRODID:-//ChamberMaster//Event Calendar 2.0//EN
METHOD:PUBLISH
X-PUBLISHED-TTL:P3D
REFRESH-INTERVAL:P3D
CALSCALE:GREGORIAN
BEGIN:VEVENT
DTSTART;VALUE=DATE:20261205
DTEND;VALUE=DATE:20261206
TRANSP:TRANSPARENT
X-MICROSOFT-CDO-ALLDAYEVENT:TRUE
SUMMARY:Freeport to Port O'Connor Toy Run
DESCRIPTION:The 24th annual Freeport to Port O'Connor Toy Run!\n\nWe pivot from our annual fishing tournament and fundraiser to our main event every first weekend in December! Rain\, Snow\, Sleet\, or Shine we go by boat down the intercostal 70 miles as Santa's elves with toys to be delivered to underprivileged kids in remote areas at Christmas!\n\nSee more details at www.poctoyrun.net!!
X-ALT-DESC;FMTTYPE=text/html:<div>\n<div class="xdj266r x11i5rnm xat24cr x1mh8g0r x1vvkbs" style="margin: 0px\; overflow-wrap: break-word\; font-family: &quot\;Segoe UI Historic&quot\;\, &quot\;Segoe UI&quot\;\, Helvetica\, Arial\, sans-serif\; color: rgb(5\, 5\, 5)\; font-size: 15px\; background-color: rgb(255\, 255\, 255)\;">\n<div class="xdj266r x14z9mp xat24cr x1lziwak x1vvkbs" style="margin: 0px\; overflow-wrap: break-word\; font-family: &quot\;Segoe UI Historic&quot\;\, &quot\;Segoe UI&quot\;\, Helvetica\, Arial\, sans-serif\; color: rgb(8\, 8\, 9)\; font-size: 15px\; background-color: rgb(255\, 255\, 255)\;">The 24th&nbsp\;annual Freeport to Port O&rsquo\;Connor Toy Run!</div>\n\n<div class="x14z9mp xat24cr x1lziwak x1vvkbs xtlvy1s" style="margin: 0.5em 0px 0px\; overflow-wrap: break-word\; font-family: &quot\;Segoe UI Historic&quot\;\, &quot\;Segoe UI&quot\;\, Helvetica\, Arial\, sans-serif\; color: rgb(8\, 8\, 9)\; font-size: 15px\; background-color: rgb(255\, 255\, 255)\;">We pivot from our annual fishing tournament and fundraiser to our main event every first weekend in December! Rain\, Snow\, Sleet\, or Shine we go by boat down the intercostal 70 miles as Santa&rsquo\;s elves with toys to be delivered to underprivileged kids in remote areas at Christmas!</div>\n\n<div class="x14z9mp xat24cr x1lziwak x1vvkbs xtlvy1s" style="margin: 0.5em 0px 0px\; overflow-wrap: break-word\; font-family: &quot\;Segoe UI Historic&quot\;\, &quot\;Segoe UI&quot\;\, Helvetica\, Arial\, sans-serif\; color: rgb(8\, 8\, 9)\; font-size: 15px\; background-color: rgb(255\, 255\, 255)\;">See more details at&nbsp\;<a attributionsrc="/privacy_sandbox/comet/register/source/?xt=AZWHxjsxSJxbMDQuq6LfU1XYnBAgZLryfdX5vDitAtTGBKLPvsVeXDcBtLxnA8YKDoKJKdmrmNmf4lTw0MiLfmrxWrk2YATD85i63j6U4Snqo9DGSvGtjt74krtglKQ20jbu1fe2T8l2tMtV45uSpMoKVq7cfGfV30CxTCtLHEX8K7kXh8gIzXriXhQMQFolYQD3KvZ9F_wqGi12SqQPLNL8pyREuII3KHa0lfUwEL2lqkXmlw5dEBW6gdkrr6_FG427W2cT7Qif8U9ebguoKnJKWEV0x8Ne71rpVf0Ep5hjCAxKiD4S1DMj-JblbX9iOwidt1wMCEM8_kqXmN-pVZt3O9k6HClbjIyFj2bPiUHk5PIUVWEad6BmNrmMJMtow1pYiIWLRS0zmhHdens0xOGGNsgiC_gdY9cCsjJzJpb8ok0vE7wmhJEWXjnnc2iKXKKnQR6DDnXbMe3o25WvxTYyNo3YgrOCxd9W7qbCWP5AQBeTIeUVopgrk3APSd6ro5Xujfu-5n6eykVt_-yNC0DKNojFh4y_YqIbqqA0Q6zJT91WpIH0uFadv26BzI0CT149SFSmIE8NSsOfKOY52nmZkjE9h6BBsDmYmiQNXj2ou0C34HJlezqsy6LyRU2fLzloBkPCLyJmhq902V7j-4keWM9YWyCD7wRti1KiXfwTWiovXzZgkgRmD0raZfmL4ND6KQQ1VBimjLS1syziFJAHPn2KXvUE37cO9Aiho-ZnS0BbRe5xrkk04Q4TpEzOrzFikKSyY-isNW3I0opBIkZxdkhkRLJ_4_8crjIybE6JumvI0Y-aWbDmLHSV_z-X_bXX5LbMdmy54hdx_Dbm7uSGCP4EdDB7-8oFOxhTSufAxg" class="x1i10hfl xjbqb8w x1ejq31n x18oe1m7 x1sy0etr xstzfhl x972fbf x10w94by x1qhh985 x14e42zd x9f619 x1ypdohk xt0psk2 xe8uvvx xdj266r x14z9mp xat24cr x1lziwak xexx8yu xyri2b x18d9i69 x1c1uobl x16tdsg8 x1hl2dhg xggy1nq x1a2a7pz xkrqix3 x1sur9pj x1fey0fg x1s688f" href="https://www.poctoyrun.net/?fbclid=IwZXh0bgNhZW0CMTAAYnJpZBExbUZtck9QdlBKQUFiNmppTQEeiIlwNkapsD7T6jUFhu52QS4GH98g8DidcWIqC3HH2Rq2ATzXTDZ__GuPo0o_aem_vfKeaoqZlToqRFbhiFTmqw" rel="nofollow noreferrer" role="link" style="color: rgb(0\, 100\, 209)\; cursor: pointer\; text-decoration-line: none\; list-style: none\; border-width: 0px\; margin: 0px\; text-align: inherit\; border-style: none\; padding: 0px\; box-sizing: border-box\; background-color: transparent\; outline: none\; -webkit-tap-highlight-color: transparent\; font-weight: 600\; touch-action: manipulation\; display: inline\; font-family: inherit\;" tabindex="0" target="_blank">www.poctoyrun.net</a>!!&nbsp\;</div>\n</div>\n</div>\n
LOCATION:
UID:e.3603.7959
SEQUENCE:3
DTSTAMP:20260422T232454Z
URL:https://business.portoconnorchamber.com/events/details/freeport-to-port-o-connor-toy-run-7959
END:VEVENT

END:VCALENDAR
