BEGIN:VCALENDAR
VERSION:2.0
PRODID:-//ChamberMaster//Event Calendar 2.0//EN
METHOD:PUBLISH
X-PUBLISHED-TTL:P3D
REFRESH-INTERVAL:P3D
CALSCALE:GREGORIAN
BEGIN:VEVENT
DTSTART:20260418T160000Z
DTEND:20260418T220000Z
X-MICROSOFT-CDO-ALLDAYEVENT:FALSE
SUMMARY:Go Area Texan Car Show
DESCRIPTION:Car show for go area Texan 511 airline dr port lavaca tx all classes welcome stay tuned on this page to see updates for the car show
X-ALT-DESC;FMTTYPE=text/html:<span style="color: rgb(8\, 8\, 9)\; font-family: &quot\;Segoe UI Historic&quot\;\, &quot\;Segoe UI&quot\;\, Helvetica\, Arial\, sans-serif\; font-size: 15px\; background-color: rgb(255\, 255\, 255)\;">Car show for go area Texan 511 airline dr port lavaca tx all classes welcome stay tuned on this page to see updates for the car show</span>
LOCATION:Port Lavaca Fairgrounds
UID:e.3603.8603
SEQUENCE:3
DTSTAMP:20260422T122601Z
URL:https://business.portoconnorchamber.com/events/details/go-area-texan-car-show-8603
END:VEVENT

END:VCALENDAR
