BEGIN:VCALENDAR
VERSION:2.0
PRODID:-//ChamberMaster//Event Calendar 2.0//EN
METHOD:PUBLISH
X-PUBLISHED-TTL:P3D
REFRESH-INTERVAL:P3D
CALSCALE:GREGORIAN
BEGIN:VEVENT
DTSTART:20261217T000000Z
DTEND:20261218T040000Z
X-MICROSOFT-CDO-ALLDAYEVENT:FALSE
SUMMARY:House Lighting Contest
DESCRIPTION:Port O'Connor is brightly illuminated during the Christmas season! The community participates in the Christmas House Lighting Contest each year.  Sign up to be considered\, and Judges will be viewing on Wednesday and Thursday
X-ALT-DESC;FMTTYPE=text/html:<span style="font-size:16px\;"><span style="font-family:verdana\;"><span style="color:#0000CD\;"><span style="background-color: rgb(255\, 255\, 255)\;">Port O&rsquo\;Connor is brightly illuminated during the Christmas season! The community participates in the Christmas House Lighting Contest each year.&nbsp\; Sign up to be considered\, and Judges will be viewing on Wednesday and Thursday&nbsp\;</span></span></span></span>
LOCATION:Port O'Connor\, TX
UID:e.3603.8585
SEQUENCE:3
DTSTAMP:20260422T222734Z
URL:https://business.portoconnorchamber.com/events/details/house-lighting-contest-8585
END:VEVENT

END:VCALENDAR
