BEGIN:VCALENDAR
VERSION:2.0
PRODID:-//ChamberMaster//Event Calendar 2.0//EN
METHOD:PUBLISH
X-PUBLISHED-TTL:P3D
REFRESH-INTERVAL:P3D
CALSCALE:GREGORIAN
BEGIN:VEVENT
DTSTART:20251122T130000Z
DTEND:20251123T000000Z
X-MICROSOFT-CDO-ALLDAYEVENT:FALSE
SUMMARY:JMF Annual Turkey Cookoff
DESCRIPTION:Join Us For A Crazyyy Fun Day.\n\nWhere The Rules Are Shallow & The Laughter Is Non Stop... All Proceeds Always To A Great Cause That Gives 365 Days A Year If Our Little Village Needs...\n\nFind Your Spot\, Start Cooking 7am On Site And Let The Fun Begin..\n\nPit Turkey\n\nSmoke Turkey\n\nChef's Choice\n\nMargarita ( anything goes)\n\nShowmanship\n\nSilent Auction\n\nBounce House\n\nJalapeno Contest\n\nJello Shot Contest\n\nCorn Holes\n\nAnd More\n\nCalling Your Interested In Sponsoring A Winners Belt\, Trophy\, Or Bounce House\n\n361-550-4677.
X-ALT-DESC;FMTTYPE=text/html:<div background-color:="" class="kvgmc6g5 cxmmr5t8 oygrvhab hcukyx3x c1et5uql ii04i59q" color:="" font-size:="" segoe="" style="overflow-wrap: break-word\; margin: 0px\; white-space: pre-wrap\; font-family: " ui="">\n<div dir="auto" style="font-family: inherit\;">\n<div class="xdj266r x14z9mp xat24cr x1lziwak x1vvkbs" style="overflow-wrap: break-word\; margin-inline: 0px\; margin-bottom: 0px\; margin-top: 0px\; font-family: &quot\;Segoe UI Historic&quot\;\, &quot\;Segoe UI&quot\;\, Helvetica\, Arial\, sans-serif\; color: rgb(8\, 8\, 9)\; font-size: 15px\; background-color: rgb(255\, 255\, 255)\;">Join Us For A Crazyyy Fun Day.<br class="html-br" />\nWhere The Rules Are Shallow &amp\; The Laughter Is Non Stop... All Proceeds Always To A Great Cause That Gives 365 Days A Year If Our Little Village Needs...</div>\n\n<div class="x14z9mp xat24cr x1lziwak x1vvkbs xtlvy1s" style="overflow-wrap: break-word\; margin-top: 0.5em\; margin-inline: 0px\; margin-bottom: 0px\; font-family: &quot\;Segoe UI Historic&quot\;\, &quot\;Segoe UI&quot\;\, Helvetica\, Arial\, sans-serif\; color: rgb(8\, 8\, 9)\; font-size: 15px\; background-color: rgb(255\, 255\, 255)\;">Find Your Spot\, Start Cooking 7am On Site And Let The Fun Begin..</div>\n\n<div class="x14z9mp xat24cr x1lziwak x1vvkbs xtlvy1s" style="overflow-wrap: break-word\; margin-top: 0.5em\; margin-inline: 0px\; margin-bottom: 0px\; font-family: &quot\;Segoe UI Historic&quot\;\, &quot\;Segoe UI&quot\;\, Helvetica\, Arial\, sans-serif\; color: rgb(8\, 8\, 9)\; font-size: 15px\; background-color: rgb(255\, 255\, 255)\;">Pit Turkey<br class="html-br" />\nSmoke Turkey<br class="html-br" />\nChef&#39\;s Choice<br class="html-br" />\nMargarita ( anything goes)<br class="html-br" />\nShowmanship</div>\n\n<div class="x14z9mp xat24cr x1lziwak x1vvkbs xtlvy1s" style="overflow-wrap: break-word\; margin-top: 0.5em\; margin-inline: 0px\; margin-bottom: 0px\; font-family: &quot\;Segoe UI Historic&quot\;\, &quot\;Segoe UI&quot\;\, Helvetica\, Arial\, sans-serif\; color: rgb(8\, 8\, 9)\; font-size: 15px\; background-color: rgb(255\, 255\, 255)\;">Silent Auction<br class="html-br" />\nBounce House<br class="html-br" />\nJalapeno Contest<br class="html-br" />\nJello Shot Contest<br class="html-br" />\nCorn Holes<br class="html-br" />\nAnd More</div>\n\n<div class="x14z9mp xat24cr x1lziwak x1vvkbs xtlvy1s" style="overflow-wrap: break-word\; margin-top: 0.5em\; margin-inline: 0px\; margin-bottom: 0px\; font-family: &quot\;Segoe UI Historic&quot\;\, &quot\;Segoe UI&quot\;\, Helvetica\, Arial\, sans-serif\; color: rgb(8\, 8\, 9)\; font-size: 15px\; background-color: rgb(255\, 255\, 255)\;">Calling Your Interested In Sponsoring A Winners Belt\, Trophy\, Or Bounce House<br class="html-br" />\n361-550-4677.&nbsp\;</div>\n</div>\n</div>\n
LOCATION:JMF Mexican Food & Cantina
UID:e.3603.7946
SEQUENCE:3
DTSTAMP:20260422T201325Z
URL:https://business.portoconnorchamber.com/events/details/jmf-annual-turkey-cookoff-7946
END:VEVENT

END:VCALENDAR
