BEGIN:VCALENDAR
VERSION:2.0
PRODID:-//ChamberMaster//Event Calendar 2.0//EN
METHOD:PUBLISH
X-PUBLISHED-TTL:P3D
REFRESH-INTERVAL:P3D
CALSCALE:GREGORIAN
BEGIN:VEVENT
DTSTART;VALUE=DATE:20260720
DTEND;VALUE=DATE:20260727
TRANSP:TRANSPARENT
X-MICROSOFT-CDO-ALLDAYEVENT:TRUE
SUMMARY:Lone Star Shootout
DESCRIPTION:The Lone Star Shootout is an Invitational Billfish tournament known for its great format\, fun times\, big payouts and contribution to charitable causes.\n\nCheck out the website for all the General Information\n\nhttps://www.thelonestarshootout.com/general-information/
X-ALT-DESC;FMTTYPE=text/html:<div class="x11i5rnm xat24cr x1mh8g0r x1vvkbs xdj266r x126k92a" style="margin: 0px\; white-space: pre-wrap\; overflow-wrap: break-word\; font-family: &quot\;Segoe UI Historic&quot\;\, &quot\;Segoe UI&quot\;\, Helvetica\, Arial\, sans-serif\; color: rgb(5\, 5\, 5)\; font-size: 15px\; background-color: rgb(255\, 255\, 255)\;">\n<div dir="auto" style="font-family: inherit\;"><span style="color: rgb(8\, 8\, 9)\; font-family: &quot\;Segoe UI Historic&quot\;\, &quot\;Segoe UI&quot\;\, Helvetica\, Arial\, sans-serif\; font-size: 15px\; text-align: center\; background-color: rgb(255\, 255\, 255)\;">The Lone Star Shootout is an Invitational Billfish tournament known for its great format\, fun times\, big payouts and contribution to charitable causes.</span><br />\nCheck out the website for all the General Information<br />\n<a href="https://www.thelonestarshootout.com/general-information/">https://www.thelonestarshootout.com/general-information/</a></div>\n</div>\n
LOCATION:
UID:e.3603.8586
SEQUENCE:3
DTSTAMP:20260425T195433Z
URL:https://business.portoconnorchamber.com/events/details/lone-star-shootout-8586
END:VEVENT

END:VCALENDAR
