BEGIN:VCALENDAR
VERSION:2.0
PRODID:-//ChamberMaster//Event Calendar 2.0//EN
METHOD:PUBLISH
X-PUBLISHED-TTL:P3D
REFRESH-INTERVAL:P3D
CALSCALE:GREGORIAN
BEGIN:VEVENT
DTSTART:20260603T180000Z
DTEND:20260603T200000Z
X-MICROSOFT-CDO-ALLDAYEVENT:FALSE
SUMMARY:Mahjongg Tile Game
DESCRIPTION:
X-ALT-DESC;FMTTYPE=text/html:
LOCATION:POC Library
UID:e.3603.5356
SEQUENCE:3
DTSTAMP:20260425T210834Z
URL:https://business.portoconnorchamber.com/events/details/mahjongg-tile-game-06-03-2026-5356
END:VEVENT

END:VCALENDAR
