BEGIN:VCALENDAR
VERSION:2.0
PRODID:-//ChamberMaster//Event Calendar 2.0//EN
METHOD:PUBLISH
X-PUBLISHED-TTL:P3D
REFRESH-INTERVAL:P3D
CALSCALE:GREGORIAN
BEGIN:VEVENT
DTSTART:20261128T160000Z
DTEND:20261128T220000Z
X-MICROSOFT-CDO-ALLDAYEVENT:FALSE
SUMMARY:POC Poker Run
DESCRIPTION:Join us for a fun day of playing cards and visiting our local businesses! Visit stops in your choice of transportation (golf cart or car).  Pick up a card at each stop and get your 50/50 raffle tickets. Prizes for best and lowest winning hand! Always the Saturday after Thanksgiving.
X-ALT-DESC;FMTTYPE=text/html:Join us for a fun day of playing cards and visiting our local businesses! Visit stops in your choice of transportation (golf cart or car).&nbsp\; Pick up a card at each stop and get your 50/50 raffle tickets. Prizes for best and lowest winning hand! Always the Saturday after Thanksgiving.&nbsp\;
LOCATION:
UID:e.3603.7958
SEQUENCE:3
DTSTAMP:20260422T212323Z
URL:https://business.portoconnorchamber.com/events/details/poc-poker-run-7958
END:VEVENT

END:VCALENDAR
