BEGIN:VCALENDAR
VERSION:2.0
PRODID:-//ChamberMaster//Event Calendar 2.0//EN
METHOD:PUBLISH
X-PUBLISHED-TTL:P3D
REFRESH-INTERVAL:P3D
CALSCALE:GREGORIAN
BEGIN:VEVENT
DTSTART:20270422T150000Z
DTEND:20270422T170000Z
X-MICROSOFT-CDO-ALLDAYEVENT:FALSE
SUMMARY:POC Service Club Meeting
DESCRIPTION:
X-ALT-DESC;FMTTYPE=text/html:
LOCATION:
UID:e.3603.8463
SEQUENCE:3
DTSTAMP:20260423T040408Z
URL:https://business.portoconnorchamber.com/events/details/poc-service-club-meeting-04-22-2027-8463
END:VEVENT

END:VCALENDAR
