BEGIN:VCALENDAR
VERSION:2.0
PRODID:-//ChamberMaster//Event Calendar 2.0//EN
METHOD:PUBLISH
X-PUBLISHED-TTL:P3D
REFRESH-INTERVAL:P3D
CALSCALE:GREGORIAN
BEGIN:VEVENT
DTSTART:20270805T150000Z
DTEND:20270805T170000Z
X-MICROSOFT-CDO-ALLDAYEVENT:FALSE
SUMMARY:POC Service Club Meeting
DESCRIPTION:
X-ALT-DESC;FMTTYPE=text/html:
LOCATION:
UID:e.3603.8324
SEQUENCE:3
DTSTAMP:20260423T092834Z
URL:https://business.portoconnorchamber.com/events/details/poc-service-club-meeting-08-05-2027-8324
END:VEVENT

END:VCALENDAR
