BEGIN:VCALENDAR
VERSION:2.0
PRODID:-//ChamberMaster//Event Calendar 2.0//EN
METHOD:PUBLISH
X-PUBLISHED-TTL:P3D
REFRESH-INTERVAL:P3D
CALSCALE:GREGORIAN
BEGIN:VEVENT
DTSTART:20260404T120000Z
DTEND:20260404T170000Z
X-MICROSOFT-CDO-ALLDAYEVENT:FALSE
SUMMARY:POC Service Club Spring Garage Sale
DESCRIPTION:Something for Everyone! Come check out our huge selection of all types of gently-used items. Clothing and shoes\, small household and kitchen appliances\, dishes\, kitchenware\, toys\, sports\, fishing\, and hunting equipment\, decorative items and pictures\, seasonal decorations and items\, and much more.\n\nDelicious Home-baked Goodies!\n\nAll proceeds benefit local scholarships and local improvement projects.\n\nThe Club continues to accept your generous donations of used household\, decorative\, and kitchen items\; small appliances\; clothing\; shoes\; toys\; children's and baby items\; furniture\; etc. For your convenience\, we now have a "Donation Drop Box" located at the front of our Donation Center. If you would like to donate furniture\, please call one of the ladies listed below\, so that arrangements can be made. We cannot accept computers\, electronics\, mattresses\, or microwaves!!!\n\nTo donate\, please contact:\n\nAlane Haardt: 281-416-6028\n\nNancy Ladshaw: 830-832-0510\n\nMarie Hawes: 361-920-2322
X-ALT-DESC;FMTTYPE=text/html:<div class="xdj266r x11i5rnm xat24cr x1mh8g0r x1vvkbs" style="margin: 0px\; overflow-wrap: break-word\; font-family: &quot\;Segoe UI Historic&quot\;\, &quot\;Segoe UI&quot\;\, Helvetica\, Arial\, sans-serif\; color: rgb(5\, 5\, 5)\; font-size: 15px\; background-color: rgb(255\, 255\, 255)\;">Something for Everyone! Come check out our huge selection of all types of gently-used items. Clothing and shoes\, small household and kitchen appliances\, dishes\, kitchenware\, toys\, sports\, fishing\, and hunting equipment\, decorative items and pictures\, seasonal decorations and items\, and much more.</div>\n\n<div class="x11i5rnm xat24cr x1mh8g0r x1vvkbs xtlvy1s" style="margin: 0.5em 0px 0px\; overflow-wrap: break-word\; font-family: &quot\;Segoe UI Historic&quot\;\, &quot\;Segoe UI&quot\;\, Helvetica\, Arial\, sans-serif\; color: rgb(5\, 5\, 5)\; font-size: 15px\; background-color: rgb(255\, 255\, 255)\;">Delicious Home-baked Goodies!</div>\n\n<div class="x11i5rnm xat24cr x1mh8g0r x1vvkbs xtlvy1s" style="margin: 0.5em 0px 0px\; overflow-wrap: break-word\; font-family: &quot\;Segoe UI Historic&quot\;\, &quot\;Segoe UI&quot\;\, Helvetica\, Arial\, sans-serif\; color: rgb(5\, 5\, 5)\; font-size: 15px\; background-color: rgb(255\, 255\, 255)\;">All proceeds benefit local scholarships and local improvement projects.</div>\n\n<div class="x11i5rnm xat24cr x1mh8g0r x1vvkbs xtlvy1s" style="margin: 0.5em 0px 0px\; overflow-wrap: break-word\; font-family: &quot\;Segoe UI Historic&quot\;\, &quot\;Segoe UI&quot\;\, Helvetica\, Arial\, sans-serif\; color: rgb(5\, 5\, 5)\; font-size: 15px\; background-color: rgb(255\, 255\, 255)\;">The Club continues to accept your generous donations of used household\, decorative\, and kitchen items\; small appliances\; clothing\; shoes\; toys\; children&rsquo\;s and baby items\; furniture\; etc. For your convenience\, we now have a &ldquo\;Donation Drop Box&rdquo\; located at the front of our Donation Center. If you would like to donate furniture\, please call one of the ladies listed below\, so that arrangements can be made. We cannot accept computers\, electronics\, mattresses\, or microwaves!!!</div>\n\n<div class="x11i5rnm xat24cr x1mh8g0r x1vvkbs xtlvy1s" style="margin: 0.5em 0px 0px\; overflow-wrap: break-word\; font-family: &quot\;Segoe UI Historic&quot\;\, &quot\;Segoe UI&quot\;\, Helvetica\, Arial\, sans-serif\; color: rgb(5\, 5\, 5)\; font-size: 15px\; background-color: rgb(255\, 255\, 255)\;">To donate\, please contact:<br />\nAlane Haardt: 281-416-6028<br />\nNancy Ladshaw: 830-832-0510<br />\nMarie Hawes: 361-920-2322</div>\n
LOCATION:POC Community Center
UID:e.3603.8587
SEQUENCE:3
DTSTAMP:20260425T131154Z
URL:https://business.portoconnorchamber.com/events/details/poc-service-club-spring-garage-sale-8587
END:VEVENT

END:VCALENDAR
