BEGIN:VCALENDAR
VERSION:2.0
PRODID:-//ChamberMaster//Event Calendar 2.0//EN
METHOD:PUBLISH
X-PUBLISHED-TTL:P3D
REFRESH-INTERVAL:P3D
CALSCALE:GREGORIAN
BEGIN:VEVENT
DTSTART;VALUE=DATE:20260326
DTEND;VALUE=DATE:20260329
TRANSP:TRANSPARENT
X-MICROSOFT-CDO-ALLDAYEVENT:TRUE
SUMMARY:Saltwater Legend Series
DESCRIPTION:The Saltwater Legend Series  is an organization whose sole purpose is to: Honor the heroes of the sport of Saltwater fishing\, preserve the history of the sport & it's anglers\, promote it's values & celebrate excellence everywhere.
X-ALT-DESC;FMTTYPE=text/html:<div background-color:="" class="m8h3af8h l7ghb35v kjdc1dyq kmwttqpk gh25dzvf n3t5jt4f" color:="" font-size:="" segoe="" style="overflow-wrap: break-word\; margin: 0px\; white-space: pre-wrap\; font-family: " ui="">\n<div dir="auto" style="font-family: inherit\;">\n<div class="x1n2onr6 x1ja2u2z x9f619 x78zum5 xdt5ytf x2lah0s x193iq5w xjkvuk6 x1cnzs8" style="z-index: 0\; position: relative\; flex-shrink: 0\; display: flex\; box-sizing: border-box\; flex-direction: column\; max-width: 100%\; padding-top: 20px\; padding-bottom: 4px\; font-family: &quot\;Segoe UI Historic&quot\;\, &quot\;Segoe UI&quot\;\, Helvetica\, Arial\, sans-serif\; color: rgb(28\, 30\, 33)\; font-size: 12px\;">\n<div class="x9f619 x1n2onr6 x1ja2u2z x78zum5 xdt5ytf x1iyjqo2 x2lwn1j" style="flex-grow: 1\; z-index: 0\; position: relative\; display: flex\; box-sizing: border-box\; flex-direction: column\; min-height: 0px\; font-family: inherit\;">\n<div class="x9f619 x1n2onr6 x1ja2u2z x78zum5 xdt5ytf x2lah0s x193iq5w xf7dkkf xv54qhq" style="z-index: 0\; position: relative\; flex-shrink: 0\; display: flex\; box-sizing: border-box\; flex-direction: column\; padding-inline: 16px\; max-width: 100%\; font-family: inherit\;">\n<div class="x78zum5 xdt5ytf x4cne27 xifccgj" style="display: flex\; flex-direction: column\; margin-bottom: -6px\; margin-top: -6px\; font-family: inherit\;">\n<div class="xzueoph x1k70j0n" style="margin-top: 6px\; margin-bottom: 6px\; font-family: inherit\;">\n<div class="x9f619 x1ja2u2z x78zum5 x2lah0s x1n2onr6 x1qughib x6s0dn4 xozqiw3 x1q0g3np xzt5al7" style="z-index: 0\; position: relative\; flex-flow: row\; justify-content: space-between\; flex-shrink: 0\; align-items: center\; display: flex\; box-sizing: border-box\; direction: ltr\; font-family: inherit\;">\n<div class="x9f619 x1n2onr6 x1ja2u2z x78zum5 xdt5ytf x193iq5w xeuugli x1r8uery x1iyjqo2 xs83m0k" style="flex: 1 1 0px\; z-index: 0\; position: relative\; display: flex\; box-sizing: border-box\; flex-direction: column\; max-width: 100%\; min-width: 0px\; font-family: inherit\;">\n<h2 class="html-h2 xdj266r x14z9mp xat24cr x1lziwak xexx8yu xyri2b x18d9i69 x1c1uobl x1vvkbs x1heor9g x1qlqyl8 x1pd3egz x1a2a7pz x193iq5w xeuugli" style="color: inherit\; font-size: inherit\; font-weight: inherit\; margin: 0px\; padding: 0px\; overflow-wrap: break-word\; max-width: 100%\; outline: none\; min-width: 0px\; padding-inline: 0px\; font-family: inherit\;"><span class="x193iq5w xeuugli x13faqbe x1vvkbs x1xmvt09 x1lliihq x1s928wv xhkezso x1gmr53x x1cpjm7i x1fgarty x1943h6x xtoi2st x3x7a5m x1603h9y x1u7k74 x1xlr1w8 xzsf02u" dir="auto" style="display: block\; line-height: 1.2\; overflow-wrap: break-word\; color: rgb(8\, 8\, 9)\; max-width: 100%\; word-break: break-word\; font-size: 1.25rem\; font-weight: 700\; font-family: inherit\; min-width: 0px\;"><span class="x193iq5w xeuugli x13faqbe x1vvkbs x1xmvt09 x1603h9y x1u7k74 x1xlr1w8 xzsf02u" style="line-height: 1.2\; overflow-wrap: break-word\; max-width: 100%\; word-break: break-word\; font-size: 1.25rem\; font-family: inherit\; min-width: 0px\;"><span class="x1lliihq x6ikm8r x10wlt62 x1n2onr6 x1120s5i" style="display: -webkit-box\; position: relative\; overflow: hidden\; padding-bottom: 2px\; font-family: inherit\; -webkit-box-orient: vertical\; -webkit-line-clamp: 2\;"><span style="font-family: inherit\; font-size: 0.9375rem\; font-weight: inherit\;">The Saltwater Legend Series&trade\; is an organization whose sole purpose is to: Honor the heroes of the sport of Saltwater fishing\, preserve the history of the sport &amp\; it&rsquo\;s anglers\, promote it&rsquo\;s values &amp\; celebrate excellence everywhere.</span></span></span></span></h2>\n</div>\n</div>\n</div>\n</div>\n</div>\n</div>\n</div>\n</div>\n</div>\n
LOCATION:
UID:e.3603.7937
SEQUENCE:3
DTSTAMP:20260426T004812Z
URL:https://business.portoconnorchamber.com/events/details/saltwater-legend-series-7937
END:VEVENT

END:VCALENDAR
