BEGIN:VCALENDAR
VERSION:2.0
PRODID:-//ChamberMaster//Event Calendar 2.0//EN
METHOD:PUBLISH
X-PUBLISHED-TTL:P3D
REFRESH-INTERVAL:P3D
CALSCALE:GREGORIAN
BEGIN:VEVENT
DTSTART:20251205T170000Z
DTEND:20251205T193000Z
X-MICROSOFT-CDO-ALLDAYEVENT:FALSE
SUMMARY:Senior Citizens Christmas Luncheon
DESCRIPTION:All Senior Citizens are invited to join us for this huge Christmas Celebration. Help us ring in the Yuletide Season and partake of a delicious meal of home cooked goodies prepared by the Service Club Elves.\n\nCome help us celebrate with fun and festive Christmas caroling and merriment. There will be door prizes\, lots of fun and laughter.\n\nSenior Citizens Christmas Luncheon Menu:\n\nBeef Tips\n\nChicken & Dressing\n\nGravy\n\nMashed Potatoes\n\nCorn Casserole\n\nGreen Beans\n\nTossed Salad\n\nCranberry Sauce\n\nFruit Salad\n\nDinner Rolls\n\nPies\n\nCoffee\n\nTea\n\nWater\n\nYou don't want to miss this wonderful Christmas event.\n\nDelivery is available for those who are unable to join us. To sign up for delivery\, please call Alane Haardt at 281-416-6028 by 12/4/25.
X-ALT-DESC;FMTTYPE=text/html:<div background-color:="" class="xdj266r x11i5rnm xat24cr x1mh8g0r x1vvkbs" color:="" font-size:="" segoe="" style="margin: 0px\; overflow-wrap: break-word\; font-family: " ui="">\n<div class="xdj266r x11i5rnm xat24cr x1mh8g0r x1vvkbs" color:="" font-size:="" segoe="" style="margin: 0px\; overflow-wrap: break-word\; font-family: " ui="">\n<div class="xdj266r x14z9mp xat24cr x1lziwak x1vvkbs" style="overflow-wrap: break-word\; margin-inline: 0px\; margin-bottom: 0px\; margin-top: 0px\; font-family: &quot\;Segoe UI Historic&quot\;\, &quot\;Segoe UI&quot\;\, Helvetica\, Arial\, sans-serif\; color: rgb(8\, 8\, 9)\; font-size: 15px\;">All Senior Citizens are invited to join us for this huge Christmas Celebration. Help us ring in the Yuletide Season and partake of a delicious meal of home cooked goodies prepared by the Service Club Elves.</div>\n\n<div class="x14z9mp xat24cr x1lziwak x1vvkbs xtlvy1s" style="overflow-wrap: break-word\; margin-top: 0.5em\; margin-inline: 0px\; margin-bottom: 0px\; font-family: &quot\;Segoe UI Historic&quot\;\, &quot\;Segoe UI&quot\;\, Helvetica\, Arial\, sans-serif\; color: rgb(8\, 8\, 9)\; font-size: 15px\;">Come help us celebrate with fun and festive Christmas caroling and merriment. There will be door prizes\, lots of fun and laughter.</div>\n\n<div class="x14z9mp xat24cr x1lziwak x1vvkbs xtlvy1s" style="overflow-wrap: break-word\; margin-top: 0.5em\; margin-inline: 0px\; margin-bottom: 0px\; font-family: &quot\;Segoe UI Historic&quot\;\, &quot\;Segoe UI&quot\;\, Helvetica\, Arial\, sans-serif\; color: rgb(8\, 8\, 9)\; font-size: 15px\;">Senior Citizens Christmas Luncheon Menu:<br class="html-br" />\nBeef Tips<br class="html-br" />\nChicken &amp\; Dressing<br class="html-br" />\nGravy<br class="html-br" />\nMashed Potatoes<br class="html-br" />\nCorn Casserole<br class="html-br" />\nGreen Beans<br class="html-br" />\nTossed Salad<br class="html-br" />\nCranberry Sauce<br class="html-br" />\nFruit Salad<br class="html-br" />\nDinner Rolls<br class="html-br" />\nPies<br class="html-br" />\nCoffee<br class="html-br" />\nTea<br class="html-br" />\nWater</div>\n\n<div class="x14z9mp xat24cr x1lziwak x1vvkbs xtlvy1s" style="overflow-wrap: break-word\; margin-top: 0.5em\; margin-inline: 0px\; margin-bottom: 0px\; font-family: &quot\;Segoe UI Historic&quot\;\, &quot\;Segoe UI&quot\;\, Helvetica\, Arial\, sans-serif\; color: rgb(8\, 8\, 9)\; font-size: 15px\;">You don&rsquo\;t want to miss this wonderful Christmas event.</div>\n\n<div class="x14z9mp xat24cr x1lziwak x1vvkbs xtlvy1s" style="overflow-wrap: break-word\; margin-top: 0.5em\; margin-inline: 0px\; margin-bottom: 0px\; font-family: &quot\;Segoe UI Historic&quot\;\, &quot\;Segoe UI&quot\;\, Helvetica\, Arial\, sans-serif\; color: rgb(8\, 8\, 9)\; font-size: 15px\;">Delivery is available for those who are unable to join us. To sign up for delivery\, please call Alane Haardt at 281-416-6028 by 12/4/25.</div>\n</div>\n</div>\n
LOCATION:Port O'Connor Community Center
UID:e.3603.7951
SEQUENCE:3
DTSTAMP:20260422T185551Z
URL:https://business.portoconnorchamber.com/events/details/senior-citizens-christmas-luncheon-7951
END:VEVENT

END:VCALENDAR
