BEGIN:VCALENDAR
VERSION:2.0
PRODID:-//ChamberMaster//Event Calendar 2.0//EN
METHOD:PUBLISH
X-PUBLISHED-TTL:P3D
REFRESH-INTERVAL:P3D
CALSCALE:GREGORIAN
BEGIN:VEVENT
DTSTART:20260310T163000Z
DTEND:20260310T180000Z
X-MICROSOFT-CDO-ALLDAYEVENT:FALSE
SUMMARY:Senior Luncheon
DESCRIPTION:Food will be served at 11:30\, with Bingo afterwards!
X-ALT-DESC;FMTTYPE=text/html:Food will be served at 11:30\, with Bingo afterwards!
LOCATION:
UID:e.3603.7462
SEQUENCE:3
DTSTAMP:20260426T005300Z
URL:https://business.portoconnorchamber.com/events/details/senior-luncheon-03-10-2026-7462
END:VEVENT

END:VCALENDAR
