BEGIN:VCALENDAR
VERSION:2.0
PRODID:-//ChamberMaster//Event Calendar 2.0//EN
METHOD:PUBLISH
X-PUBLISHED-TTL:P3D
REFRESH-INTERVAL:P3D
CALSCALE:GREGORIAN
BEGIN:VEVENT
DTSTART;VALUE=DATE:20260711
DTEND;VALUE=DATE:20260712
TRANSP:TRANSPARENT
X-MICROSOFT-CDO-ALLDAYEVENT:TRUE
SUMMARY:The Legacy Tournament
DESCRIPTION:A fishing tournament to honor Rusty Tronicek. \n\nFollow the link for more info!
X-ALT-DESC;FMTTYPE=text/html:A fishing tournament to honor Rusty Tronicek.&nbsp\;<br />\nFollow the link for more info!\n<div class="x11i5rnm xat24cr x1mh8g0r x1vvkbs xtlvy1s x126k92a" style="margin: 0.5em 0px 0px\; overflow-wrap: break-word\; white-space-collapse: preserve\; font-family: &quot\;Segoe UI Historic&quot\;\, &quot\;Segoe UI&quot\;\, Helvetica\, Arial\, sans-serif\; color: rgb(5\, 5\, 5)\; font-size: 15px\; background-color: rgb(255\, 255\, 255)\;">\n<div dir="auto" style="font-family: inherit\;">&nbsp\;</div>\n</div>\n
LOCATION:
UID:e.3603.8606
SEQUENCE:3
DTSTAMP:20260422T173932Z
URL:https://business.portoconnorchamber.com/events/details/the-legacy-tournament-8606
END:VEVENT

END:VCALENDAR
