BEGIN:VCALENDAR
VERSION:2.0
PRODID:-//ChamberMaster//Event Calendar 2.0//EN
METHOD:PUBLISH
X-PUBLISHED-TTL:P3D
REFRESH-INTERVAL:P3D
CALSCALE:GREGORIAN
BEGIN:VEVENT
DTSTART:20261031T230000Z
DTEND:20261101T010000Z
X-MICROSOFT-CDO-ALLDAYEVENT:FALSE
SUMMARY:Trunk or Treat
DESCRIPTION:Join us at King Fisher Beach Park (Park Ave) for trunk or treating. Come and decorate your vehicle\, golf cart\, or whatever and pass out candy to trick or treaters.  $100 cash prize to the best decorated!\n\nBest Dog Costume at 7:30 pm.  Prize awarded!
X-ALT-DESC;FMTTYPE=text/html:Join us at King Fisher Beach Park (Park Ave) for trunk or treating. Come and decorate your vehicle\, golf cart\, or whatever and pass out candy to trick or treaters.&nbsp\; $100 cash prize to the best decorated!<br />\nBest Dog Costume at 7:30 pm.&nbsp\; Prize awarded!&nbsp\;<br />\n&nbsp\;
LOCATION:
UID:e.3603.7957
SEQUENCE:3
DTSTAMP:20260422T201209Z
URL:https://business.portoconnorchamber.com/events/details/trunk-or-treat-7957
END:VEVENT

END:VCALENDAR
