BEGIN:VCALENDAR
VERSION:2.0
PRODID:-//ChamberMaster//Event Calendar 2.0//EN
METHOD:PUBLISH
X-PUBLISHED-TTL:P3D
REFRESH-INTERVAL:P3D
CALSCALE:GREGORIAN
BEGIN:VEVENT
DTSTART:20260311T140000Z
DTEND:20260311T150000Z
X-MICROSOFT-CDO-ALLDAYEVENT:FALSE
SUMMARY:Yoga\, Strenth & Stretch
DESCRIPTION:YOGA - Join a fabulous group of cool women!  If you are looking to get fit and meet new peeps - all are welcome to join the group. We meet Monday\, Wednesdays and Fridays at 9am\, usually at King Fisher Pavilion.  Bring your  mat and hand held weights\, if you have them.\n\nMondays are Yoga\, Wednesdays are weights\, and Fridays are a variety like barre\, stations\, or boot camp. \n\nMessage 361- 676-3093 for more details.
X-ALT-DESC;FMTTYPE=text/html:<strong><span style="color:#000080\;"><span style="font-size:14px\;">YOGA - Join a fabulous group of cool women!&nbsp\; If you are looking to get fit and meet new peeps - all are welcome to join the group. We meet Monday\, Wednesdays and Fridays at 9am\, usually at King Fisher Pavilion.&nbsp\; Bring your&nbsp\; mat and hand held weights\, if you have them.<br />\nMondays are Yoga\, Wednesdays are weights\, and Fridays are a variety like barre\, stations\, or boot camp.&nbsp\;<br />\n<span style="white-space-collapse: preserve\;">Message 361- 676-3093 for more details. </span></span></span></strong>
LOCATION:King Fisher Pavilion
UID:e.3603.6383
SEQUENCE:3
DTSTAMP:20260426T005259Z
URL:https://business.portoconnorchamber.com/events/details/yoga-03-11-2026-6383
END:VEVENT

END:VCALENDAR
